BEGIN:VCALENDAR
VERSION:2.0
PRODID:icalendar-ruby
CALSCALE:GREGORIAN
METHOD:PUBLISH
BEGIN:VEVENT
DTSTAMP:20260422T131549Z
UID:5-3837569@can.lordsgrace.ca
DTSTART:20230129T183000Z
DTEND:20230129T193000Z
CLASS:PUBLIC
CREATED:20260422T033002
DESCRIPTION:English Service
LAST-MODIFIED:20260422T033002
LOCATION:
SUMMARY:English Service
URL;VALUE=URI:https://can.lordsgrace.ca/events/english-service/2023-01-29
END:VEVENT
END:VCALENDAR
