BEGIN:VCALENDAR
VERSION:2.0
PRODID:icalendar-ruby
CALSCALE:GREGORIAN
METHOD:PUBLISH
BEGIN:VEVENT
DTSTAMP:20260422T144536Z
UID:5-3839314@can.lordsgrace.ca
DTSTART:20230205T183000Z
DTEND:20230205T193000Z
CLASS:PUBLIC
CREATED:20260422T062431
DESCRIPTION:English Service
LAST-MODIFIED:20260422T062431
LOCATION:
SUMMARY:English Service
URL;VALUE=URI:https://can.lordsgrace.ca/events/english-service/2023-02-05
END:VEVENT
END:VCALENDAR
