BEGIN:VCALENDAR
VERSION:2.0
PRODID:icalendar-ruby
CALSCALE:GREGORIAN
METHOD:PUBLISH
BEGIN:VEVENT
DTSTAMP:20260422T174257Z
UID:5-3841060@can.lordsgrace.ca
DTSTART:20230219T183000Z
DTEND:20230219T193000Z
CLASS:PUBLIC
CREATED:20260422T091951
DESCRIPTION:English Service
LAST-MODIFIED:20260422T091951
LOCATION:
SUMMARY:English Service
URL;VALUE=URI:https://can.lordsgrace.ca/events/english-service/2023-02-19
END:VEVENT
END:VCALENDAR
