BEGIN:VCALENDAR
VERSION:2.0
PRODID:icalendar-ruby
CALSCALE:GREGORIAN
METHOD:PUBLISH
BEGIN:VEVENT
DTSTAMP:20260422T220200Z
UID:5-3842807@can.lordsgrace.ca
DTSTART:20230312T173000Z
DTEND:20230312T183000Z
CLASS:PUBLIC
CREATED:20260422T121437
DESCRIPTION:English Service
LAST-MODIFIED:20260422T121437
LOCATION:
SUMMARY:English Service
URL;VALUE=URI:https://can.lordsgrace.ca/events/english-service/2023-03-12
END:VEVENT
END:VCALENDAR
