BEGIN:VCALENDAR
VERSION:2.0
PRODID:icalendar-ruby
CALSCALE:GREGORIAN
METHOD:PUBLISH
BEGIN:VEVENT
DTSTAMP:20260423T005321Z
UID:5-3844553@can.lordsgrace.ca
DTSTART:20230326T173000Z
DTEND:20230326T183000Z
CLASS:PUBLIC
CREATED:20260422T150912
DESCRIPTION:English Service
LAST-MODIFIED:20260422T150912
LOCATION:
SUMMARY:English Service
URL;VALUE=URI:https://can.lordsgrace.ca/events/english-service/2023-03-26
END:VEVENT
END:VCALENDAR
