BEGIN:VCALENDAR
VERSION:2.0
PRODID:icalendar-ruby
CALSCALE:GREGORIAN
METHOD:PUBLISH
BEGIN:VEVENT
DTSTAMP:20260423T023052Z
UID:5-3846298@can.lordsgrace.ca
DTSTART:20230402T173000Z
DTEND:20230402T183000Z
CLASS:PUBLIC
CREATED:20260422T180054
DESCRIPTION:English Service
LAST-MODIFIED:20260422T180054
LOCATION:
SUMMARY:English Service
URL;VALUE=URI:https://can.lordsgrace.ca/events/english-service/2023-04-02
END:VEVENT
END:VCALENDAR
