BEGIN:VCALENDAR
VERSION:2.0
PRODID:icalendar-ruby
CALSCALE:GREGORIAN
METHOD:PUBLISH
BEGIN:VEVENT
DTSTAMP:20260423T070154Z
UID:5-3846301@can.lordsgrace.ca
DTSTART:20230423T173000Z
DTEND:20230423T183000Z
CLASS:PUBLIC
CREATED:20260422T180054
DESCRIPTION:English Service
LAST-MODIFIED:20260422T180054
LOCATION:
SUMMARY:English Service
URL;VALUE=URI:https://can.lordsgrace.ca/events/english-service/2023-04-23
END:VEVENT
END:VCALENDAR
