BEGIN:VCALENDAR
VERSION:2.0
PRODID:icalendar-ruby
CALSCALE:GREGORIAN
METHOD:PUBLISH
BEGIN:VEVENT
DTSTAMP:20260423T115133Z
UID:5-3848048@can.lordsgrace.ca
DTSTART:20230514T173000Z
DTEND:20230514T183000Z
CLASS:PUBLIC
CREATED:20260423T032957
DESCRIPTION:English Service
LAST-MODIFIED:20260423T032957
LOCATION:
SUMMARY:English Service
URL;VALUE=URI:https://can.lordsgrace.ca/events/english-service/2023-05-14
END:VEVENT
END:VCALENDAR
