BEGIN:VCALENDAR
VERSION:2.0
PRODID:icalendar-ruby
CALSCALE:GREGORIAN
METHOD:PUBLISH
BEGIN:VEVENT
DTSTAMP:20260423T145158Z
UID:5-3849794@can.lordsgrace.ca
DTSTART:20230528T173000Z
DTEND:20230528T183000Z
CLASS:PUBLIC
CREATED:20260423T062538
DESCRIPTION:English Service
LAST-MODIFIED:20260423T062538
LOCATION:
SUMMARY:English Service
URL;VALUE=URI:https://can.lordsgrace.ca/events/english-service/2023-05-28
END:VEVENT
END:VCALENDAR
