BEGIN:VCALENDAR
VERSION:2.0
PRODID:icalendar-ruby
CALSCALE:GREGORIAN
METHOD:PUBLISH
BEGIN:VEVENT
DTSTAMP:20260423T192735Z
UID:5-3853285@can.lordsgrace.ca
DTSTART:20230618T173000Z
DTEND:20230618T183000Z
CLASS:PUBLIC
CREATED:20260423T121532
DESCRIPTION:English Service
LAST-MODIFIED:20260423T121532
LOCATION:
SUMMARY:English Service
URL;VALUE=URI:https://can.lordsgrace.ca/events/english-service/2023-06-18
END:VEVENT
END:VCALENDAR
