BEGIN:VCALENDAR
VERSION:2.0
PRODID:icalendar-ruby
CALSCALE:GREGORIAN
METHOD:PUBLISH
BEGIN:VEVENT
DTSTAMP:20260423T211244Z
UID:5-3853286@can.lordsgrace.ca
DTSTART:20230625T173000Z
DTEND:20230625T183000Z
CLASS:PUBLIC
CREATED:20260423T121532
DESCRIPTION:English Service
LAST-MODIFIED:20260423T121532
LOCATION:
SUMMARY:English Service
URL;VALUE=URI:https://can.lordsgrace.ca/events/english-service/2023-06-25
END:VEVENT
END:VCALENDAR
