BEGIN:VCALENDAR
VERSION:2.0
PRODID:icalendar-ruby
CALSCALE:GREGORIAN
METHOD:PUBLISH
BEGIN:VEVENT
DTSTAMP:20260423T223645Z
UID:5-3855031@can.lordsgrace.ca
DTSTART:20230702T173000Z
DTEND:20230702T183000Z
CLASS:PUBLIC
CREATED:20260423T150944
DESCRIPTION:English Service
LAST-MODIFIED:20260423T150944
LOCATION:
SUMMARY:English Service
URL;VALUE=URI:https://can.lordsgrace.ca/events/english-service/2023-07-02
END:VEVENT
END:VCALENDAR
