BEGIN:VCALENDAR
VERSION:2.0
PRODID:icalendar-ruby
CALSCALE:GREGORIAN
METHOD:PUBLISH
BEGIN:VEVENT
DTSTAMP:20260424T015720Z
UID:5-3856777@can.lordsgrace.ca
DTSTART:20230716T173000Z
DTEND:20230716T183000Z
CLASS:PUBLIC
CREATED:20260423T180235
DESCRIPTION:English Service
LAST-MODIFIED:20260423T180235
LOCATION:
SUMMARY:English Service
URL;VALUE=URI:https://can.lordsgrace.ca/events/english-service/2023-07-16
END:VEVENT
END:VCALENDAR
