BEGIN:VCALENDAR
VERSION:2.0
PRODID:icalendar-ruby
CALSCALE:GREGORIAN
METHOD:PUBLISH
BEGIN:VEVENT
DTSTAMP:20260424T100818Z
UID:5-3856783@can.lordsgrace.ca
DTSTART:20230827T173000Z
DTEND:20230827T183000Z
CLASS:PUBLIC
CREATED:20260423T180235
DESCRIPTION:English Service
LAST-MODIFIED:20260423T180235
LOCATION:
SUMMARY:English Service
URL;VALUE=URI:https://can.lordsgrace.ca/events/english-service/2023-08-27
END:VEVENT
END:VCALENDAR
