BEGIN:VCALENDAR
VERSION:2.0
PRODID:icalendar-ruby
CALSCALE:GREGORIAN
METHOD:PUBLISH
BEGIN:VEVENT
DTSTAMP:20260424T125957Z
UID:5-3858529@can.lordsgrace.ca
DTSTART:20230910T173000Z
DTEND:20230910T183000Z
CLASS:PUBLIC
CREATED:20260424T033026
DESCRIPTION:English Service
LAST-MODIFIED:20260424T033026
LOCATION:
SUMMARY:English Service
URL;VALUE=URI:https://can.lordsgrace.ca/events/english-service/2023-09-10
END:VEVENT
END:VCALENDAR
