BEGIN:VCALENDAR
VERSION:2.0
PRODID:icalendar-ruby
CALSCALE:GREGORIAN
METHOD:PUBLISH
BEGIN:VEVENT
DTSTAMP:20260424T142501Z
UID:5-3860274@can.lordsgrace.ca
DTSTART:20230917T173000Z
DTEND:20230917T183000Z
CLASS:PUBLIC
CREATED:20260424T062516
DESCRIPTION:English Service
LAST-MODIFIED:20260424T062516
LOCATION:
SUMMARY:English Service
URL;VALUE=URI:https://can.lordsgrace.ca/events/english-service/2023-09-17
END:VEVENT
END:VCALENDAR
