BEGIN:VCALENDAR
VERSION:2.0
PRODID:icalendar-ruby
CALSCALE:GREGORIAN
METHOD:PUBLISH
BEGIN:VEVENT
DTSTAMP:20260424T173051Z
UID:5-3862020@can.lordsgrace.ca
DTSTART:20231001T173000Z
DTEND:20231001T183000Z
CLASS:PUBLIC
CREATED:20260424T091625
DESCRIPTION:English Service
LAST-MODIFIED:20260424T091625
LOCATION:
SUMMARY:English Service
URL;VALUE=URI:https://can.lordsgrace.ca/events/english-service/2023-10-01
END:VEVENT
END:VCALENDAR
