BEGIN:VCALENDAR
VERSION:2.0
PRODID:icalendar-ruby
CALSCALE:GREGORIAN
METHOD:PUBLISH
BEGIN:VEVENT
DTSTAMP:20260424T185725Z
UID:5-3862021@can.lordsgrace.ca
DTSTART:20231008T173000Z
DTEND:20231008T183000Z
CLASS:PUBLIC
CREATED:20260424T091625
DESCRIPTION:English Service
LAST-MODIFIED:20260424T091625
LOCATION:
SUMMARY:English Service
URL;VALUE=URI:https://can.lordsgrace.ca/events/english-service/2023-10-08
END:VEVENT
END:VCALENDAR
