BEGIN:VCALENDAR
VERSION:2.0
PRODID:icalendar-ruby
CALSCALE:GREGORIAN
METHOD:PUBLISH
BEGIN:VEVENT
DTSTAMP:20260424T202943Z
UID:5-3863766@can.lordsgrace.ca
DTSTART:20231015T173000Z
DTEND:20231015T183000Z
CLASS:PUBLIC
CREATED:20260424T120209
DESCRIPTION:English Service
LAST-MODIFIED:20260424T120209
LOCATION:
SUMMARY:English Service
URL;VALUE=URI:https://can.lordsgrace.ca/events/english-service/2023-10-15
END:VEVENT
END:VCALENDAR
