BEGIN:VCALENDAR
VERSION:2.0
PRODID:icalendar-ruby
CALSCALE:GREGORIAN
METHOD:PUBLISH
BEGIN:VEVENT
DTSTAMP:20260425T020757Z
UID:5-3867258@can.lordsgrace.ca
DTSTART:20231112T183000Z
DTEND:20231112T193000Z
CLASS:PUBLIC
CREATED:20260424T173806
DESCRIPTION:English Service
LAST-MODIFIED:20260424T173806
LOCATION:
SUMMARY:English Service
URL;VALUE=URI:https://can.lordsgrace.ca/events/english-service/2023-11-12
END:VEVENT
END:VCALENDAR
