BEGIN:VCALENDAR
VERSION:2.0
PRODID:icalendar-ruby
CALSCALE:GREGORIAN
METHOD:PUBLISH
BEGIN:VEVENT
DTSTAMP:20260424T102911Z
UID:9-3857740@can.lordsgrace.ca
DTSTART:20230416T190000Z
DTEND:20230416T200000Z
CLASS:PUBLIC
CREATED:20260423T180237
DESCRIPTION:Mandarin Worship
LAST-MODIFIED:20260423T180237
LOCATION:
SUMMARY:Mandarin Worship
URL;VALUE=URI:https://can.lordsgrace.ca/events/mandarin-worship/2023-04-16
END:VEVENT
END:VCALENDAR
