BEGIN:VCALENDAR
VERSION:2.0
PRODID:icalendar-ruby
CALSCALE:GREGORIAN
METHOD:PUBLISH
BEGIN:VEVENT
DTSTAMP:20260424T142125Z
UID:9-3861231@can.lordsgrace.ca
DTSTART:20230507T190000Z
DTEND:20230507T200000Z
CLASS:PUBLIC
CREATED:20260424T062518
DESCRIPTION:Mandarin Worship
LAST-MODIFIED:20260424T062518
LOCATION:
SUMMARY:Mandarin Worship
URL;VALUE=URI:https://can.lordsgrace.ca/events/mandarin-worship/2023-05-07
END:VEVENT
END:VCALENDAR
