BEGIN:VCALENDAR
VERSION:2.0
PRODID:icalendar-ruby
CALSCALE:GREGORIAN
METHOD:PUBLISH
BEGIN:VEVENT
DTSTAMP:20260424T171138Z
UID:9-3862977@can.lordsgrace.ca
DTSTART:20230521T190000Z
DTEND:20230521T200000Z
CLASS:PUBLIC
CREATED:20260424T091627
DESCRIPTION:Mandarin Worship
LAST-MODIFIED:20260424T091627
LOCATION:
SUMMARY:Mandarin Worship
URL;VALUE=URI:https://can.lordsgrace.ca/events/mandarin-worship/2023-05-21
END:VEVENT
END:VCALENDAR
