BEGIN:VCALENDAR
VERSION:2.0
PRODID:icalendar-ruby
CALSCALE:GREGORIAN
METHOD:PUBLISH
BEGIN:VEVENT
DTSTAMP:20260424T183900Z
UID:9-3862978@can.lordsgrace.ca
DTSTART:20230528T190000Z
DTEND:20230528T200000Z
CLASS:PUBLIC
CREATED:20260424T091627
DESCRIPTION:Mandarin Worship
LAST-MODIFIED:20260424T091627
LOCATION:
SUMMARY:Mandarin Worship
URL;VALUE=URI:https://can.lordsgrace.ca/events/mandarin-worship/2023-05-28
END:VEVENT
END:VCALENDAR
