BEGIN:VCALENDAR
VERSION:2.0
PRODID:icalendar-ruby
CALSCALE:GREGORIAN
METHOD:PUBLISH
BEGIN:VEVENT
DTSTAMP:20260424T200247Z
UID:9-3864723@can.lordsgrace.ca
DTSTART:20230604T190000Z
DTEND:20230604T200000Z
CLASS:PUBLIC
CREATED:20260424T120210
DESCRIPTION:Mandarin Worship
LAST-MODIFIED:20260424T120210
LOCATION:
SUMMARY:Mandarin Worship
URL;VALUE=URI:https://can.lordsgrace.ca/events/mandarin-worship/2023-06-04
END:VEVENT
END:VCALENDAR
