BEGIN:VCALENDAR
VERSION:2.0
PRODID:icalendar-ruby
CALSCALE:GREGORIAN
METHOD:PUBLISH
BEGIN:VEVENT
DTSTAMP:20260425T013024Z
UID:9-3868215@can.lordsgrace.ca
DTSTART:20230702T190000Z
DTEND:20230702T200000Z
CLASS:PUBLIC
CREATED:20260424T173807
DESCRIPTION:Mandarin Worship
LAST-MODIFIED:20260424T173807
LOCATION:
SUMMARY:Mandarin Worship
URL;VALUE=URI:https://can.lordsgrace.ca/events/mandarin-worship/2023-07-02
END:VEVENT
END:VCALENDAR
