BEGIN:VCALENDAR
VERSION:2.0
PRODID:icalendar-ruby
CALSCALE:GREGORIAN
METHOD:PUBLISH
BEGIN:VEVENT
DTSTAMP:20260425T121321Z
UID:9-3869966@can.lordsgrace.ca
DTSTART:20230820T190000Z
DTEND:20230820T200000Z
CLASS:PUBLIC
CREATED:20260425T032811
DESCRIPTION:Mandarin Worship
LAST-MODIFIED:20260425T032811
LOCATION:
SUMMARY:Mandarin Worship
URL;VALUE=URI:https://can.lordsgrace.ca/events/mandarin-worship/2023-08-20
END:VEVENT
END:VCALENDAR
