BEGIN:VCALENDAR
VERSION:2.0
PRODID:icalendar-ruby
CALSCALE:GREGORIAN
METHOD:PUBLISH
BEGIN:VEVENT
DTSTAMP:20260425T133838Z
UID:9-3871711@can.lordsgrace.ca
DTSTART:20230827T190000Z
DTEND:20230827T200000Z
CLASS:PUBLIC
CREATED:20260425T060947
DESCRIPTION:Mandarin Worship
LAST-MODIFIED:20260425T060947
LOCATION:
SUMMARY:Mandarin Worship
URL;VALUE=URI:https://can.lordsgrace.ca/events/mandarin-worship/2023-08-27
END:VEVENT
END:VCALENDAR
