BEGIN:VCALENDAR
VERSION:2.0
PRODID:icalendar-ruby
CALSCALE:GREGORIAN
METHOD:PUBLISH
BEGIN:VEVENT
DTSTAMP:20260425T164629Z
UID:9-3873457@can.lordsgrace.ca
DTSTART:20230910T190000Z
DTEND:20230910T200000Z
CLASS:PUBLIC
CREATED:20260425T085019
DESCRIPTION:Mandarin Worship
LAST-MODIFIED:20260425T085019
LOCATION:
SUMMARY:Mandarin Worship
URL;VALUE=URI:https://can.lordsgrace.ca/events/mandarin-worship/2023-09-10
END:VEVENT
END:VCALENDAR
