BEGIN:VCALENDAR
VERSION:2.0
PRODID:icalendar-ruby
CALSCALE:GREGORIAN
METHOD:PUBLISH
BEGIN:VEVENT
DTSTAMP:20260425T191626Z
UID:9-3875203@can.lordsgrace.ca
DTSTART:20230924T190000Z
DTEND:20230924T200000Z
CLASS:PUBLIC
CREATED:20260425T113029
DESCRIPTION:Mandarin Worship
LAST-MODIFIED:20260425T113029
LOCATION:
SUMMARY:Mandarin Worship
URL;VALUE=URI:https://can.lordsgrace.ca/events/mandarin-worship/2023-09-24
END:VEVENT
END:VCALENDAR
