BEGIN:VCALENDAR
VERSION:2.0
PRODID:icalendar-ruby
CALSCALE:GREGORIAN
METHOD:PUBLISH
BEGIN:VEVENT
DTSTAMP:20260425T204113Z
UID:9-3875204@can.lordsgrace.ca
DTSTART:20231001T190000Z
DTEND:20231001T200000Z
CLASS:PUBLIC
CREATED:20260425T113029
DESCRIPTION:Mandarin Worship
LAST-MODIFIED:20260425T113029
LOCATION:
SUMMARY:Mandarin Worship
URL;VALUE=URI:https://can.lordsgrace.ca/events/mandarin-worship/2023-10-01
END:VEVENT
END:VCALENDAR
