BEGIN:VCALENDAR
VERSION:2.0
PRODID:icalendar-ruby
CALSCALE:GREGORIAN
METHOD:PUBLISH
BEGIN:VEVENT
DTSTAMP:20260426T005743Z
UID:9-3878695@can.lordsgrace.ca
DTSTART:20231022T190000Z
DTEND:20231022T200000Z
CLASS:PUBLIC
CREATED:20260425T165525
DESCRIPTION:Mandarin Worship
LAST-MODIFIED:20260425T165525
LOCATION:
SUMMARY:Mandarin Worship
URL;VALUE=URI:https://can.lordsgrace.ca/events/mandarin-worship/2023-10-22
END:VEVENT
END:VCALENDAR
